BEGIN:VCALENDAR
VERSION:2.0
PRODID:-//wp-events-plugin.com//7.2.3.1//EN
TZID:Europe/Berlin
X-WR-TIMEZONE:Europe/Berlin
BEGIN:VEVENT
UID:4@compass-collective.org
DTSTART;TZID=Europe/Berlin:20260210T193000
DTEND;TZID=Europe/Berlin:20260210T223000
DTSTAMP:20260206T130800Z
URL:https://compass-collective.org/events/kein-land-fuer-niemand-2/
SUMMARY:Kein Land für Niemand
DESCRIPTION:Europa zieht die Mauern hoch – mitten in einer humanitären K
 atastrophe. Der Dokumentarfilm „Kein Land für Niemand – Abschottung e
 ines Einwanderungslandes“ beleuchtet die drastischen Folgen der europäi
 schen Abschottungspolitik und die Rolle Deutschlands in diesem Paradigmenw
 echsel. Ein Film über eine Krise\, die weit mehr ist als eine Debatte üb
 er Grenzen – sondern eine über Menschlichkeit\, Verantwortung und die Z
 ukunft Europas.\n\nIm Anschluss an den Film könnt ihr mit unseren Aktivis
 t:innen im Saal ins Gespräch kommen.\n\nCompassCollective ist außerdem m
 it einem Infostand vor Ort.\n\nMehr Infos &amp\; Tickets hier.
ATTACH;FMTTYPE=image/jpeg:https://compass-collective.org/wp-content/upload
 s/2026/01/keinLandFuerNiemand_2026-01-13-1.jpeg
LOCATION:Haus73\, Schulterblatt 73\, Hamburg\, Hamburg\, 20357\, Deutschlan
 d
X-APPLE-STRUCTURED-LOCATION;VALUE=URI;X-ADDRESS=Schulterblatt 73\, Hamburg\
 , Hamburg\, 20357\, Deutschland;X-APPLE-RADIUS=100;X-TITLE=Haus73:geo:0,0
END:VEVENT
BEGIN:VTIMEZONE
TZID:Europe/Berlin
X-LIC-LOCATION:Europe/Berlin
BEGIN:STANDARD
DTSTART:20251026T020000
TZOFFSETFROM:+0200
TZOFFSETTO:+0100
TZNAME:CET
END:STANDARD
END:VTIMEZONE
END:VCALENDAR