BEGIN:VCALENDAR
VERSION:2.0
PRODID:-//wp-events-plugin.com//7.2.3.1//EN
TZID:Europe/Berlin
X-WR-TIMEZONE:Europe/Berlin
BEGIN:VEVENT
UID:32@compass-collective.org
DTSTART;TZID=Europe/Berlin:20260501T000000
DTEND;TZID=Europe/Berlin:20260503T000000
DTSTAMP:20260423T193131Z
URL:https://compass-collective.org/events/trefft-unsere-crewmitglieder-am-
 infostand-auf-dem-strafiato-festival/
SUMMARY:Trefft unsere Crewmitglieder am Infostand auf dem Strafiato-Festiva
 l
DESCRIPTION:Trefft unsere Crewmitglieder am Infostand auf dem Strafiato-Fes
 tival. Mehr Infos unter: https://streetnoise.at/festival/\n\n\n\n\n\nStraf
 iato ist ein internationales Festival für urbane Blasmusik und findet 202
 6 bereits zum dritten Mal in Innsbruck statt. Vom 1. bis zum 3. Mai verwan
 delt sich die Stadt in eine Bühne für Musik\, Begegnung\, Diskussion und
  kreative Ausdrucksformen\; mitten im öffentlichen Raum\, offen für alle
 \, kostenlos und laut!\nDas Streetnoise Orchestra empfängt sieben weitere
  Streetbands mit insgesamt über 200 Musiker:innen aus Italien\, Frankreic
 h\, Belgien und Deutschland\, die ihre Kunst in Form von lautstarken Konze
 rten\, scharfen Texten und eindrucksvollen Darbietungen nach Innsbruck bri
 ngen. Vielfalt\, Solidarität und Lebensfreude sind dabei die treibenden K
 räfte für das energiegeladene Fest jenseits vom Mainstream. Eine musikal
 ische Liebeserklärung an das Leben und an die Demokratie.\nDas gesamte Fe
 stival entsteht ehrenamtlich\, kollektiv und mit einem klaren Ziel: Kultur
  für alle!\n\n\n\n\n\n\n\n&nbsp\;
ATTACH;FMTTYPE=image/jpeg:https://compass-collective.org/wp-content/upload
 s/2026/04/signal-2026-04-23-211018_002.jpeg
END:VEVENT
BEGIN:VTIMEZONE
TZID:Europe/Berlin
X-LIC-LOCATION:Europe/Berlin
BEGIN:DAYLIGHT
DTSTART:20260329T030000
TZOFFSETFROM:+0100
TZOFFSETTO:+0200
TZNAME:CEST
END:DAYLIGHT
END:VTIMEZONE
END:VCALENDAR